BEGIN:VCALENDAR
VERSION:2.0
PRODID:-//Villenauxe-la-Grande - ECPv6.15.17.1//NONSGML v1.0//EN
CALSCALE:GREGORIAN
METHOD:PUBLISH
X-WR-CALNAME:Villenauxe-la-Grande
X-ORIGINAL-URL:https://villenauxelagrande.fr
X-WR-CALDESC:Évènements pour Villenauxe-la-Grande
REFRESH-INTERVAL;VALUE=DURATION:PT1H
X-Robots-Tag:noindex
X-PUBLISHED-TTL:PT1H
BEGIN:VTIMEZONE
TZID:Europe/Paris
BEGIN:DAYLIGHT
TZOFFSETFROM:+0100
TZOFFSETTO:+0200
TZNAME:CEST
DTSTART:20180325T010000
END:DAYLIGHT
BEGIN:STANDARD
TZOFFSETFROM:+0200
TZOFFSETTO:+0100
TZNAME:CET
DTSTART:20181028T010000
END:STANDARD
BEGIN:DAYLIGHT
TZOFFSETFROM:+0100
TZOFFSETTO:+0200
TZNAME:CEST
DTSTART:20190331T010000
END:DAYLIGHT
BEGIN:STANDARD
TZOFFSETFROM:+0200
TZOFFSETTO:+0100
TZNAME:CET
DTSTART:20191027T010000
END:STANDARD
BEGIN:DAYLIGHT
TZOFFSETFROM:+0100
TZOFFSETTO:+0200
TZNAME:CEST
DTSTART:20200329T010000
END:DAYLIGHT
BEGIN:STANDARD
TZOFFSETFROM:+0200
TZOFFSETTO:+0100
TZNAME:CET
DTSTART:20201025T010000
END:STANDARD
END:VTIMEZONE
BEGIN:VEVENT
DTSTART;TZID=Europe/Paris:20190427T143000
DTEND;TZID=Europe/Paris:20190427T170000
DTSTAMP:20260424T092007
CREATED:20190318T150958Z
LAST-MODIFIED:20190401T101054Z
UID:5818-1556375400-1556384400@villenauxelagrande.fr
SUMMARY:RENDEZ-VOUS AVEC L'HISTOIRE
DESCRIPTION:CONFÉRENCE A LA BIBLIOTHÈQUE \nJean-Claude Terrillon nous propose de découvrir sous forme d’une conférence –diaporama\, le centre de Villenauxe avant les bombardements. L’occasion de découvrir ou redécouvrir notre village de manière ludique avec une présentation de maquettes réalisées par ses soins. \nRéservations conseillées\, places limitées.\nBibliothèque Municipale
URL:https://villenauxelagrande.fr/evenement/rendez-vous-avec-lhistoire/
CATEGORIES:Bibliothèque,Conférence,Culture,Patrimoine,Projection
ATTACH;FMTTYPE=image/png:https://villenauxelagrande.fr/wp-content/uploads/2019/03/SLIDE-fRDV-HISTOIRE.png
END:VEVENT
END:VCALENDAR