BEGIN:VCALENDAR
VERSION:2.0
PRODID:-//Villenauxe-la-Grande - ECPv6.15.17.1//NONSGML v1.0//EN
CALSCALE:GREGORIAN
METHOD:PUBLISH
X-WR-CALNAME:Villenauxe-la-Grande
X-ORIGINAL-URL:https://villenauxelagrande.fr
X-WR-CALDESC:Évènements pour Villenauxe-la-Grande
REFRESH-INTERVAL;VALUE=DURATION:PT1H
X-Robots-Tag:noindex
X-PUBLISHED-TTL:PT1H
BEGIN:VTIMEZONE
TZID:Europe/Paris
BEGIN:DAYLIGHT
TZOFFSETFROM:+0100
TZOFFSETTO:+0200
TZNAME:CEST
DTSTART:20180325T010000
END:DAYLIGHT
BEGIN:STANDARD
TZOFFSETFROM:+0200
TZOFFSETTO:+0100
TZNAME:CET
DTSTART:20181028T010000
END:STANDARD
BEGIN:DAYLIGHT
TZOFFSETFROM:+0100
TZOFFSETTO:+0200
TZNAME:CEST
DTSTART:20190331T010000
END:DAYLIGHT
BEGIN:STANDARD
TZOFFSETFROM:+0200
TZOFFSETTO:+0100
TZNAME:CET
DTSTART:20191027T010000
END:STANDARD
BEGIN:DAYLIGHT
TZOFFSETFROM:+0100
TZOFFSETTO:+0200
TZNAME:CEST
DTSTART:20200329T010000
END:DAYLIGHT
BEGIN:STANDARD
TZOFFSETFROM:+0200
TZOFFSETTO:+0100
TZNAME:CET
DTSTART:20201025T010000
END:STANDARD
END:VTIMEZONE
BEGIN:VEVENT
DTSTART;TZID=Europe/Paris:20191019T143000
DTEND;TZID=Europe/Paris:20191019T160000
DTSTAMP:20260424T001945
CREATED:20190927T090407Z
LAST-MODIFIED:20190927T090407Z
UID:6123-1571495400-1571500800@villenauxelagrande.fr
SUMMARY:Conférence-Diaporama sur Hervé BAZIN
DESCRIPTION:Conférence sur Hervé Bazin avec JM Chevrier\n\nSamedi 19 octobre à 14h30 à la bibliothèque \nConférence diaporama sur Hervé Bazin par Jean-Michel Chevrier \nHervé Bazin a vécu à Villenauxe\, Jean-Michel Chevrier va retracer le passage de l’écrivain dans notre village. en s’attachant à nous éclairer sur le souvenir du romancier dans les années 50. \nSaviez-vous qu’il brigua le poste de maire lors des élections de 1953. Son épouse Jacqueline Dussolier et trois de ses quatre enfants\, Maryvonne et Catherine\, nées à Villenauxe en 1950 et 1952 et Jean-Paul. Un diaporama commenté sera présenté et vous découvrirez de nombreuses photos de famille. \nGratuit \nSur réservation au 0325213165
URL:https://villenauxelagrande.fr/evenement/conference-diaporama-sur-herve-bazin/
CATEGORIES:Animation,Bibliothèque,Conférence,Culture
ATTACH;FMTTYPE=image/png:https://villenauxelagrande.fr/wp-content/uploads/2019/09/SLIDE-2019-8.png
END:VEVENT
END:VCALENDAR