BEGIN:VCALENDAR
VERSION:2.0
PRODID:-//Villenauxe-la-Grande - ECPv6.15.17.1//NONSGML v1.0//EN
CALSCALE:GREGORIAN
METHOD:PUBLISH
X-ORIGINAL-URL:https://villenauxelagrande.fr
X-WR-CALDESC:Évènements pour Villenauxe-la-Grande
REFRESH-INTERVAL;VALUE=DURATION:PT1H
X-Robots-Tag:noindex
X-PUBLISHED-TTL:PT1H
BEGIN:VTIMEZONE
TZID:Europe/Paris
BEGIN:DAYLIGHT
TZOFFSETFROM:+0100
TZOFFSETTO:+0200
TZNAME:CEST
DTSTART:20200329T010000
END:DAYLIGHT
BEGIN:STANDARD
TZOFFSETFROM:+0200
TZOFFSETTO:+0100
TZNAME:CET
DTSTART:20201025T010000
END:STANDARD
BEGIN:DAYLIGHT
TZOFFSETFROM:+0100
TZOFFSETTO:+0200
TZNAME:CEST
DTSTART:20210328T010000
END:DAYLIGHT
BEGIN:STANDARD
TZOFFSETFROM:+0200
TZOFFSETTO:+0100
TZNAME:CET
DTSTART:20211031T010000
END:STANDARD
BEGIN:DAYLIGHT
TZOFFSETFROM:+0100
TZOFFSETTO:+0200
TZNAME:CEST
DTSTART:20220327T010000
END:DAYLIGHT
BEGIN:STANDARD
TZOFFSETFROM:+0200
TZOFFSETTO:+0100
TZNAME:CET
DTSTART:20221030T010000
END:STANDARD
END:VTIMEZONE
BEGIN:VEVENT
DTSTART;TZID=Europe/Paris:20210703T143000
DTEND;TZID=Europe/Paris:20210703T160000
DTSTAMP:20260422T050102
CREATED:20210614T183229Z
LAST-MODIFIED:20210614T193627Z
UID:7539-1625322600-1625328000@villenauxelagrande.fr
SUMMARY:RENCONTRE DEDICACE AVEC SERAINA HEINRICH
DESCRIPTION:
URL:https://villenauxelagrande.fr/evenement/rencontre-dedicace-avec-seraina-heinrich/
LOCATION:Bibliothèque Municipale Gustave Flaubert\, 35 rue du Perrey\, Villenauxe-la-Grande\, 10370
CATEGORIES:Bibliothèque
ATTACH;FMTTYPE=image/jpeg:https://villenauxelagrande.fr/wp-content/uploads/2021/06/198763370_561213248599408_5656979666554730837_n.jpg
END:VEVENT
BEGIN:VEVENT
DTSTART;TZID=Europe/Paris:20210709T180000
DTEND;TZID=Europe/Paris:20210709T223000
DTSTAMP:20260422T050102
CREATED:20210508T071045Z
LAST-MODIFIED:20210613T072340Z
UID:7432-1625853600-1625869800@villenauxelagrande.fr
SUMMARY:MARCHÉ NOCTURNE
DESCRIPTION:
URL:https://villenauxelagrande.fr/evenement/marche-nocturne/
LOCATION:Centre-ville\, Villenauxe la grande\, 10400\, France
CATEGORIES:Animation
ATTACH;FMTTYPE=image/png:https://villenauxelagrande.fr/wp-content/uploads/2021/05/Marche-Nocturne-e1623568774549.png
END:VEVENT
BEGIN:VEVENT
DTSTART;TZID=Europe/Paris:20210710T080000
DTEND;TZID=Europe/Paris:20210710T120000
DTSTAMP:20260422T050102
CREATED:20210613T085352Z
LAST-MODIFIED:20210714T160129Z
UID:7535-1625904000-1625918400@villenauxelagrande.fr
SUMMARY:RANDONNÉES
DESCRIPTION:8h-12h : Adultes (13km)\nParticipation 3€
URL:https://villenauxelagrande.fr/evenement/randonnees/
END:VEVENT
BEGIN:VEVENT
DTSTART;TZID=Europe/Paris:20210710T103000
DTEND;TZID=Europe/Paris:20210710T113000
DTSTAMP:20260422T050102
CREATED:20210508T072221Z
LAST-MODIFIED:20210626T182616Z
UID:7443-1625913000-1625916600@villenauxelagrande.fr
SUMMARY:REVEIL MATINAL - ARTS MARTIAUX
DESCRIPTION:
URL:https://villenauxelagrande.fr/evenement/reveil-matinal-arts-martiaux/
LOCATION:Place Georges Clemenceau\, Villenauxe-la-Grande\, 10370
CATEGORIES:Animation,Sport
ATTACH;FMTTYPE=image/jpeg:https://villenauxelagrande.fr/wp-content/uploads/2021/05/AMV.jpg
END:VEVENT
BEGIN:VEVENT
DTSTART;TZID=Europe/Paris:20210711T060000
DTEND;TZID=Europe/Paris:20210711T180000
DTSTAMP:20260422T050102
CREATED:20210508T071315Z
LAST-MODIFIED:20210528T185233Z
UID:7436-1625983200-1626026400@villenauxelagrande.fr
SUMMARY:BROCANTE
DESCRIPTION:
URL:https://villenauxelagrande.fr/evenement/brocante/
LOCATION:Stade du Perrey\, 65 rue du Perrey\, Villenauxe-la-Grande\, 10370\, France
CATEGORIES:Brocante
ATTACH;FMTTYPE=image/png:https://villenauxelagrande.fr/wp-content/uploads/2021/05/Brocante-2021-e1622227873527.png
END:VEVENT
BEGIN:VEVENT
DTSTART;TZID=Europe/Paris:20210713T230000
DTEND;TZID=Europe/Paris:20210713T230000
DTSTAMP:20260422T050102
CREATED:20210508T071900Z
LAST-MODIFIED:20210614T193202Z
UID:7441-1626217200-1626217200@villenauxelagrande.fr
SUMMARY:FEU D'ARTIFICE
DESCRIPTION:
URL:https://villenauxelagrande.fr/evenement/feu-dartifice-2/
CATEGORIES:Festivités
ATTACH;FMTTYPE=image/png:https://villenauxelagrande.fr/wp-content/uploads/2021/05/Feu-dartifice-e1625397991231.png
END:VEVENT
BEGIN:VEVENT
DTSTART;VALUE=DATE:20210714
DTEND;VALUE=DATE:20210715
DTSTAMP:20260422T050102
CREATED:20210508T071542Z
LAST-MODIFIED:20210508T071736Z
UID:7438-1626220800-1626307199@villenauxelagrande.fr
SUMMARY:FESTIVITÉS DU 14 JUILLET
DESCRIPTION:
URL:https://villenauxelagrande.fr/evenement/feu-dartifice/
CATEGORIES:Festivités
END:VEVENT
BEGIN:VEVENT
DTSTART;TZID=Europe/Paris:20210716T103000
DTEND;TZID=Europe/Paris:20210716T113000
DTSTAMP:20260422T050102
CREATED:20210614T191659Z
LAST-MODIFIED:20210714T160038Z
UID:7561-1626431400-1626435000@villenauxelagrande.fr
SUMMARY:REVEIL MATINAL - DYNAMIC VARIATIONS
DESCRIPTION:Renforcement musculaire et Yoga.\nOuvert à tous.
URL:https://villenauxelagrande.fr/evenement/reveil-matinal-dynamic-variations/
LOCATION:Place Georges Clemenceau\, Villenauxe-la-Grande\, 10370
CATEGORIES:Animation,Sport
ATTACH;FMTTYPE=image/png:https://villenauxelagrande.fr/wp-content/uploads/2021/06/Dynamic-Variations.png
END:VEVENT
BEGIN:VEVENT
DTSTART;TZID=Europe/Paris:20210716T180000
DTEND;TZID=Europe/Paris:20210716T223000
DTSTAMP:20260422T050102
CREATED:20210508T071130Z
LAST-MODIFIED:20210614T190329Z
UID:7434-1626458400-1626474600@villenauxelagrande.fr
SUMMARY:MARCHÉ NOCTURNE
DESCRIPTION:
URL:https://villenauxelagrande.fr/evenement/marche-nocturne-2/
LOCATION:Place Georges Clemenceau\, Villenauxe-la-Grande\, 10370
CATEGORIES:Animation
ATTACH;FMTTYPE=image/png:https://villenauxelagrande.fr/wp-content/uploads/2021/05/Marche-Nocturne-e1623568774549.png
END:VEVENT
END:VCALENDAR