BEGIN:VCALENDAR
VERSION:2.0
PRODID:-//Villenauxe-la-Grande - ECPv6.15.17.1//NONSGML v1.0//EN
CALSCALE:GREGORIAN
METHOD:PUBLISH
X-ORIGINAL-URL:https://villenauxelagrande.fr
X-WR-CALDESC:Évènements pour Villenauxe-la-Grande
REFRESH-INTERVAL;VALUE=DURATION:PT1H
X-Robots-Tag:noindex
X-PUBLISHED-TTL:PT1H
BEGIN:VTIMEZONE
TZID:Europe/Paris
BEGIN:DAYLIGHT
TZOFFSETFROM:+0100
TZOFFSETTO:+0200
TZNAME:CEST
DTSTART:20200329T010000
END:DAYLIGHT
BEGIN:STANDARD
TZOFFSETFROM:+0200
TZOFFSETTO:+0100
TZNAME:CET
DTSTART:20201025T010000
END:STANDARD
BEGIN:DAYLIGHT
TZOFFSETFROM:+0100
TZOFFSETTO:+0200
TZNAME:CEST
DTSTART:20210328T010000
END:DAYLIGHT
BEGIN:STANDARD
TZOFFSETFROM:+0200
TZOFFSETTO:+0100
TZNAME:CET
DTSTART:20211031T010000
END:STANDARD
BEGIN:DAYLIGHT
TZOFFSETFROM:+0100
TZOFFSETTO:+0200
TZNAME:CEST
DTSTART:20220327T010000
END:DAYLIGHT
BEGIN:STANDARD
TZOFFSETFROM:+0200
TZOFFSETTO:+0100
TZNAME:CET
DTSTART:20221030T010000
END:STANDARD
END:VTIMEZONE
BEGIN:VEVENT
DTSTART;TZID=Europe/Paris:20210829T150000
DTEND;TZID=Europe/Paris:20210829T180000
DTSTAMP:20260422T064223
CREATED:20210817T095636Z
LAST-MODIFIED:20210817T110530Z
UID:7712-1630249200-1630260000@villenauxelagrande.fr
SUMMARY:RANDONNÉ / CHASSE AU TRÉSOR
DESCRIPTION:Le Lapin Blanc t’attend pour l’aider à résoudre les énigmes qui pourront le conduire au trésor du pays des merveilles.\nPeut-être pourras-tu célébrer le non-anniversaire d’Alice et ses amis. \nAlors inscris-toi vite !!! \nRéservations : Office du tourisme\, mairie ou comité des fêtes (07 67 11 31 16). \nRendez-vous devant la cantine scolaire rue du Perrey\, le 29 août à 15h.
URL:https://villenauxelagrande.fr/evenement/randonnee-chasse-au-tresor/
CATEGORIES:ACTUALITÉS,Animation,Randonnée
ATTACH;FMTTYPE=image/png:https://villenauxelagrande.fr/wp-content/uploads/2021/08/alice.png
END:VEVENT
END:VCALENDAR