BEGIN:VCALENDAR
VERSION:2.0
PRODID:-//Villenauxe-la-Grande - ECPv6.15.17.1//NONSGML v1.0//EN
CALSCALE:GREGORIAN
METHOD:PUBLISH
X-WR-CALNAME:Villenauxe-la-Grande
X-ORIGINAL-URL:https://villenauxelagrande.fr
X-WR-CALDESC:Évènements pour Villenauxe-la-Grande
REFRESH-INTERVAL;VALUE=DURATION:PT1H
X-Robots-Tag:noindex
X-PUBLISHED-TTL:PT1H
BEGIN:VTIMEZONE
TZID:Europe/Paris
BEGIN:DAYLIGHT
TZOFFSETFROM:+0100
TZOFFSETTO:+0200
TZNAME:CEST
DTSTART:20220327T010000
END:DAYLIGHT
BEGIN:STANDARD
TZOFFSETFROM:+0200
TZOFFSETTO:+0100
TZNAME:CET
DTSTART:20221030T010000
END:STANDARD
BEGIN:DAYLIGHT
TZOFFSETFROM:+0100
TZOFFSETTO:+0200
TZNAME:CEST
DTSTART:20230326T010000
END:DAYLIGHT
BEGIN:STANDARD
TZOFFSETFROM:+0200
TZOFFSETTO:+0100
TZNAME:CET
DTSTART:20231029T010000
END:STANDARD
BEGIN:DAYLIGHT
TZOFFSETFROM:+0100
TZOFFSETTO:+0200
TZNAME:CEST
DTSTART:20240331T010000
END:DAYLIGHT
BEGIN:STANDARD
TZOFFSETFROM:+0200
TZOFFSETTO:+0100
TZNAME:CET
DTSTART:20241027T010000
END:STANDARD
END:VTIMEZONE
BEGIN:VEVENT
DTSTART;TZID=Europe/Paris:20230826T150000
DTEND;TZID=Europe/Paris:20230826T150000
DTSTAMP:20260421T100246
CREATED:20230819T182820Z
LAST-MODIFIED:20230819T182820Z
UID:10634-1693062000-1693062000@villenauxelagrande.fr
SUMMARY:HOMMAGE JOE DASSIN
DESCRIPTION:
URL:https://villenauxelagrande.fr/evenement/hommage-joe-dassin/
LOCATION:Salle des fêtes\, 3 rue des abattoirs\, Villenauxe-la-Grande\, 10370
ATTACH;FMTTYPE=image/jpeg:https://villenauxelagrande.fr/wp-content/uploads/2023/08/JOE-DASSIN-FACEBOOK.jpg
END:VEVENT
BEGIN:VEVENT
DTSTART;TZID=Europe/Paris:20230828T180000
DTEND;TZID=Europe/Paris:20230828T180000
DTSTAMP:20260421T100246
CREATED:20230824T085809Z
LAST-MODIFIED:20230828T071205Z
UID:10647-1693245600-1693245600@villenauxelagrande.fr
SUMMARY:COMMÉMORATION DE LA LIBÉRATION DE VILLENAUXE
DESCRIPTION:Le 28 août est l’occasion de raviver la mémoire collective de notre commune grâce à la cérémonie de commémoration pour ce 79ème anniversaire de la Libération de Villenauxe-la-Grande. \n18h : Rassemblement à la salle des fêtes des personnalités et des sociétés patriotiques avec leurs drapeaux. \n18h15 : Départ du défilé et dépôt de gerbe au monument aux morts rue des abattoirs. \nÀ l’issue de la cérémonie\, un vin d’honneur sera servi. \nMerci à l’association Archéonoxe pour l’illustration.
URL:https://villenauxelagrande.fr/evenement/commemoration-de-la-liberation-de-villenauxe/
LOCATION:Salle des fêtes\, 3 rue des abattoirs\, Villenauxe-la-Grande\, 10370
ATTACH;FMTTYPE=image/jpeg:https://villenauxelagrande.fr/wp-content/uploads/2023/08/93621558e7405b88fd13833cebc09a62_Libération.jpg
END:VEVENT
BEGIN:VEVENT
DTSTART;TZID=Europe/Paris:20230830T143000
DTEND;TZID=Europe/Paris:20230830T143000
DTSTAMP:20260421T100246
CREATED:20230828T080346Z
LAST-MODIFIED:20230828T080346Z
UID:10659-1693405800-1693405800@villenauxelagrande.fr
SUMMARY:JEUX D'ANTAN À LA BIBLIOTHÈQUE
DESCRIPTION:Mercredi 30 août à 14h30 la Bibliothèque municipale Gustave Flaubert Villenauxe-la-Grande accueille Dominique\, une charmante « grand-mère » qui proposera aux enfants et adultes de partager un de ses passe-temps favoris : jouer au cochon qui rit\, au nain jaune et aux dominos avec les enfants. \nVenez découvrir ou redécouvrir ces jeux « d’antan » en famille et avec cette charmante mamie. Un beau moment en perspective ! \nGratuit \nAttention places limitées. \nA partir de 6 ans \nRéservations au 03 25 21 31 65
URL:https://villenauxelagrande.fr/evenement/jeux-dantan-a-la-bibliotheque/
LOCATION:Bibliothèque Municipale Gustave Flaubert\, 35 rue du Perrey\, Villenauxe-la-Grande\, 10370
ATTACH;FMTTYPE=image/jpeg:https://villenauxelagrande.fr/wp-content/uploads/2023/08/9baf67e99c8b721b0fb674a973ca32c3_Jeux_dant.jpg
END:VEVENT
END:VCALENDAR