BEGIN:VCALENDAR
VERSION:2.0
PRODID:-//Villenauxe-la-Grande - ECPv6.15.17.1//NONSGML v1.0//EN
CALSCALE:GREGORIAN
METHOD:PUBLISH
X-WR-CALNAME:Villenauxe-la-Grande
X-ORIGINAL-URL:https://villenauxelagrande.fr
X-WR-CALDESC:Évènements pour Villenauxe-la-Grande
REFRESH-INTERVAL;VALUE=DURATION:PT1H
X-Robots-Tag:noindex
X-PUBLISHED-TTL:PT1H
BEGIN:VTIMEZONE
TZID:Europe/Paris
BEGIN:DAYLIGHT
TZOFFSETFROM:+0100
TZOFFSETTO:+0200
TZNAME:CEST
DTSTART:20230326T010000
END:DAYLIGHT
BEGIN:STANDARD
TZOFFSETFROM:+0200
TZOFFSETTO:+0100
TZNAME:CET
DTSTART:20231029T010000
END:STANDARD
BEGIN:DAYLIGHT
TZOFFSETFROM:+0100
TZOFFSETTO:+0200
TZNAME:CEST
DTSTART:20240331T010000
END:DAYLIGHT
BEGIN:STANDARD
TZOFFSETFROM:+0200
TZOFFSETTO:+0100
TZNAME:CET
DTSTART:20241027T010000
END:STANDARD
BEGIN:DAYLIGHT
TZOFFSETFROM:+0100
TZOFFSETTO:+0200
TZNAME:CEST
DTSTART:20250330T010000
END:DAYLIGHT
BEGIN:STANDARD
TZOFFSETFROM:+0200
TZOFFSETTO:+0100
TZNAME:CET
DTSTART:20251026T010000
END:STANDARD
END:VTIMEZONE
BEGIN:VEVENT
DTSTART;VALUE=DATE:20240226
DTEND;VALUE=DATE:20240302
DTSTAMP:20260422T235703
CREATED:20240222T132449Z
LAST-MODIFIED:20240222T132449Z
UID:11036-1708905600-1709337599@villenauxelagrande.fr
SUMMARY:STAGE MULTISPORTS
DESCRIPTION:
URL:https://villenauxelagrande.fr/evenement/stage-multisports-2/
LOCATION:Salle Prieur-Vignot\, 65 rue du Perrey\, Villenauxe-la-Grande\, 10370\, France
ATTACH;FMTTYPE=image/png:https://villenauxelagrande.fr/wp-content/uploads/2024/02/multisports-2024.png
END:VEVENT
BEGIN:VEVENT
DTSTART;TZID=Europe/Paris:20240308T203000
DTEND;TZID=Europe/Paris:20240308T203000
DTSTAMP:20260422T235703
CREATED:20240229T075759Z
LAST-MODIFIED:20240229T075759Z
UID:11081-1709929800-1709929800@villenauxelagrande.fr
SUMMARY:JOURNÉE DE LA FEMME
DESCRIPTION:La bibliothèque fête la Journée de la femme\, vendredi 8 mars à 20h30.\nMini-conférence autour d’une question : Les femmes\, vont-elles changer le monde ?\nPierre Dubreucq\, conférencier du moment\, tentera de répondre à cette grande interrogation et proposera un débat autour du verre de l’amitié. \nSur réservation au 03 25 21 31 65
URL:https://villenauxelagrande.fr/evenement/journee-de-la-femme/
ATTACH;FMTTYPE=image/jpeg:https://villenauxelagrande.fr/wp-content/uploads/2024/02/429970285_387532270642287_448149772438104394_n.jpg
END:VEVENT
BEGIN:VEVENT
DTSTART;TZID=Europe/Paris:20240316T143000
DTEND;TZID=Europe/Paris:20240316T143000
DTSTAMP:20260422T235703
CREATED:20240102T073418Z
LAST-MODIFIED:20240310T085427Z
UID:10964-1710599400-1710599400@villenauxelagrande.fr
SUMMARY:DICTÉE DU PRINTEMPS
DESCRIPTION:
URL:https://villenauxelagrande.fr/evenement/dictee-du-printemps-2/
LOCATION:Bibliothèque Municipale Gustave Flaubert\, 35 rue du Perrey\, Villenauxe-la-Grande\, 10370
ATTACH;FMTTYPE=image/jpeg:https://villenauxelagrande.fr/wp-content/uploads/2024/01/FB_IMG_1709709153006.jpg
END:VEVENT
BEGIN:VEVENT
DTSTART;TZID=Europe/Paris:20240319T180000
DTEND;TZID=Europe/Paris:20240319T180000
DTSTAMP:20260422T235703
CREATED:20240222T133107Z
LAST-MODIFIED:20240301T145140Z
UID:11042-1710871200-1710871200@villenauxelagrande.fr
SUMMARY:62EME ANNIVERSAIRE DU CESSEZ LE FEU DE LA GUERRE D'ALGERIE
DESCRIPTION:LUNDI 19 MARS \n18H : Rassemblement place de la Mairie \n18h15 : Départ du défilé\nDépôt de gerbe au monument aux morts rue Saint Roch
URL:https://villenauxelagrande.fr/evenement/62eme-anniversaire-du-cessez-le-feu-de-la-guerre-dalgerie-2/
CATEGORIES:cérémonie
ATTACH;FMTTYPE=image/png:https://villenauxelagrande.fr/wp-content/uploads/2022/03/Drapeau.png
END:VEVENT
BEGIN:VEVENT
DTSTART;VALUE=DATE:20240325
DTEND;VALUE=DATE:20240326
DTSTAMP:20260422T235703
CREATED:20240102T073538Z
LAST-MODIFIED:20240103T084927Z
UID:10966-1711324800-1711411199@villenauxelagrande.fr
SUMMARY:POÈME EN MOUVEMENT
DESCRIPTION:Toc\, toc\, toc par le collectif Ma-Théâ.
URL:https://villenauxelagrande.fr/evenement/poeme-en-mouvement/
LOCATION:Salle des fêtes\, 3 rue des abattoirs\, Villenauxe-la-Grande\, 10370
END:VEVENT
BEGIN:VEVENT
DTSTART;VALUE=DATE:20240330
DTEND;VALUE=DATE:20240331
DTSTAMP:20260422T235703
CREATED:20240102T073630Z
LAST-MODIFIED:20240102T073630Z
UID:10968-1711756800-1711843199@villenauxelagrande.fr
SUMMARY:PÂQUES A LA BIBLIOTHÈQUE
DESCRIPTION:L’heure du conte.
URL:https://villenauxelagrande.fr/evenement/paques-a-la-bibliotheque-4/
LOCATION:Bibliothèque Municipale Gustave Flaubert\, 35 rue du Perrey\, Villenauxe-la-Grande\, 10370
END:VEVENT
BEGIN:VEVENT
DTSTART;VALUE=DATE:20240330
DTEND;VALUE=DATE:20240402
DTSTAMP:20260422T235703
CREATED:20240227T121031Z
LAST-MODIFIED:20240326T184658Z
UID:11020-1711756800-1712015999@villenauxelagrande.fr
SUMMARY:FOIRE DE PÂQUES
DESCRIPTION:  \nNous vous donnons rendez-vous les 30/31 mars et 1er avril pour notre traditionnelle foire de pâques ! Basée sur le thème du cirque\, nous accueillerons forains\, exposants et artistes tout au long du week-end 
URL:https://villenauxelagrande.fr/evenement/foire-de-paques-4/
LOCATION:Centre-ville\, Villenauxe la grande\, 10400\, France
ATTACH;FMTTYPE=image/jpeg:https://villenauxelagrande.fr/wp-content/uploads/2024/02/431972189_802772141885062_4690468471073821469_n.jpg
ORGANIZER;CN="Comit%C3%A9 des F%C3%AAtes de Villenauxe":MAILTO:comite.des.fetes.villenauxe@gmail.com
END:VEVENT
BEGIN:VEVENT
DTSTART;TZID=Europe/Paris:20240330T160000
DTEND;TZID=Europe/Paris:20240330T160000
DTSTAMP:20260422T235703
CREATED:20240227T121208Z
LAST-MODIFIED:20240301T120000Z
UID:11048-1711814400-1711814400@villenauxelagrande.fr
SUMMARY:VILLENAUXE FAIT SON CARNAVAL
DESCRIPTION:Cette année\, le Comité des fêtes de Villenauxe vous proposons de les rejoindre le samedi de pâques à l’occasion du Carnaval !\nPréparez vos plus beaux costumes et rejoignez le cortège.
URL:https://villenauxelagrande.fr/evenement/villenauxe-fait-son-carnaval/
LOCATION:Place Georges Clemenceau\, Villenauxe-la-Grande\, 10370
ATTACH;FMTTYPE=image/jpeg:https://villenauxelagrande.fr/wp-content/uploads/2024/02/carnaval.jpg
END:VEVENT
BEGIN:VEVENT
DTSTART;TZID=Europe/Paris:20240330T204500
DTEND;TZID=Europe/Paris:20240330T204500
DTSTAMP:20260422T235703
CREATED:20240227T122926Z
LAST-MODIFIED:20240318T093013Z
UID:11070-1711831500-1711831500@villenauxelagrande.fr
SUMMARY:CONCERT DE PÂQUES
DESCRIPTION:
URL:https://villenauxelagrande.fr/evenement/concert-de-paques-2/
LOCATION:Salle des fêtes\, 3 rue des abattoirs\, Villenauxe-la-Grande\, 10370
ATTACH;FMTTYPE=image/jpeg:https://villenauxelagrande.fr/wp-content/uploads/2024/02/FB_IMG_1710739560925.jpg
END:VEVENT
END:VCALENDAR