BEGIN:VCALENDAR
VERSION:2.0
PRODID:-//Villenauxe-la-Grande - ECPv6.15.17.1//NONSGML v1.0//EN
CALSCALE:GREGORIAN
METHOD:PUBLISH
X-ORIGINAL-URL:https://villenauxelagrande.fr
X-WR-CALDESC:Évènements pour Villenauxe-la-Grande
REFRESH-INTERVAL;VALUE=DURATION:PT1H
X-Robots-Tag:noindex
X-PUBLISHED-TTL:PT1H
BEGIN:VTIMEZONE
TZID:Europe/Paris
BEGIN:DAYLIGHT
TZOFFSETFROM:+0100
TZOFFSETTO:+0200
TZNAME:CEST
DTSTART:20230326T010000
END:DAYLIGHT
BEGIN:STANDARD
TZOFFSETFROM:+0200
TZOFFSETTO:+0100
TZNAME:CET
DTSTART:20231029T010000
END:STANDARD
BEGIN:DAYLIGHT
TZOFFSETFROM:+0100
TZOFFSETTO:+0200
TZNAME:CEST
DTSTART:20240331T010000
END:DAYLIGHT
BEGIN:STANDARD
TZOFFSETFROM:+0200
TZOFFSETTO:+0100
TZNAME:CET
DTSTART:20241027T010000
END:STANDARD
BEGIN:DAYLIGHT
TZOFFSETFROM:+0100
TZOFFSETTO:+0200
TZNAME:CEST
DTSTART:20250330T010000
END:DAYLIGHT
BEGIN:STANDARD
TZOFFSETFROM:+0200
TZOFFSETTO:+0100
TZNAME:CET
DTSTART:20251026T010000
END:STANDARD
END:VTIMEZONE
BEGIN:VEVENT
DTSTART;VALUE=DATE:20240330
DTEND;VALUE=DATE:20240402
DTSTAMP:20260422T221919
CREATED:20240227T121031Z
LAST-MODIFIED:20240326T184658Z
UID:11020-1711756800-1712015999@villenauxelagrande.fr
SUMMARY:FOIRE DE PÂQUES
DESCRIPTION:  \nNous vous donnons rendez-vous les 30/31 mars et 1er avril pour notre traditionnelle foire de pâques ! Basée sur le thème du cirque\, nous accueillerons forains\, exposants et artistes tout au long du week-end 
URL:https://villenauxelagrande.fr/evenement/foire-de-paques-4/
LOCATION:Centre-ville\, Villenauxe la grande\, 10400\, France
ATTACH;FMTTYPE=image/jpeg:https://villenauxelagrande.fr/wp-content/uploads/2024/02/431972189_802772141885062_4690468471073821469_n.jpg
ORGANIZER;CN="Comit%C3%A9 des F%C3%AAtes de Villenauxe":MAILTO:comite.des.fetes.villenauxe@gmail.com
END:VEVENT
BEGIN:VEVENT
DTSTART;TZID=Europe/Paris:20240401T080000
DTEND;TZID=Europe/Paris:20240401T080000
DTSTAMP:20260422T221919
CREATED:20240228T094821Z
LAST-MODIFIED:20240229T075514Z
UID:11077-1711958400-1711958400@villenauxelagrande.fr
SUMMARY:21ÈME RANDONNÉE DE PÂQUES
DESCRIPTION:
URL:https://villenauxelagrande.fr/evenement/21eme-randonnee-de-paques/
LOCATION:Salle Prieur-Vignot\, 65 rue du Perrey\, Villenauxe-la-Grande\, 10370\, France
CATEGORIES:Randonnée
ATTACH;FMTTYPE=image/png:https://villenauxelagrande.fr/wp-content/uploads/2022/02/Rando.png
END:VEVENT
BEGIN:VEVENT
DTSTART;VALUE=DATE:20240406
DTEND;VALUE=DATE:20240407
DTSTAMP:20260422T221919
CREATED:20240102T073725Z
LAST-MODIFIED:20240102T073725Z
UID:10970-1712361600-1712447999@villenauxelagrande.fr
SUMMARY:LE PRINTEMPS S'INSTALLE
DESCRIPTION:L’heure du conte.
URL:https://villenauxelagrande.fr/evenement/le-printemps-sinstalle/
LOCATION:Bibliothèque Municipale Gustave Flaubert\, 35 rue du Perrey\, Villenauxe-la-Grande\, 10370
END:VEVENT
BEGIN:VEVENT
DTSTART;VALUE=DATE:20240422
DTEND;VALUE=DATE:20240427
DTSTAMP:20260422T221919
CREATED:20240222T132611Z
LAST-MODIFIED:20240408T090924Z
UID:11039-1713744000-1714175999@villenauxelagrande.fr
SUMMARY:STAGE MULTISPORTS
DESCRIPTION:
URL:https://villenauxelagrande.fr/evenement/stage-multisports-3/
LOCATION:Salle Prieur-Vignot\, 65 rue du Perrey\, Villenauxe-la-Grande\, 10370\, France
ATTACH;FMTTYPE=image/png:https://villenauxelagrande.fr/wp-content/uploads/2024/02/Affiche_Jerome_Avril.png
END:VEVENT
BEGIN:VEVENT
DTSTART;TZID=Europe/Paris:20240425T140000
DTEND;TZID=Europe/Paris:20240425T160000
DTSTAMP:20260422T221919
CREATED:20240404T151807Z
LAST-MODIFIED:20240404T151807Z
UID:11190-1714053600-1714060800@villenauxelagrande.fr
SUMMARY:ANIMATION NATURE ENFANTS
DESCRIPTION: Le jeudi 25 Avril (vacances scolaires zones A et B)\, de 14h à 16h nous vous proposons une animation réservée aux enfants (à partir de 6 ans). Nous prenons en charge les enfants le temps de l’animation ! \nLes cours d’eau recèlent de nombreux secrets…  Venez découvrir la vie insoupçonnée de la Noxe\, à Villenauxe-la-Grande.\nLes pieds dans l’eau\, comme de vrais petits pêcheurs\, à la recherche des habitants du courant  \nGRATUIT – Sur inscription auprès de l’ANN –  Places limitées ! \n RDV à l’église Saint-Jacques-le-Majeur de Dival à Villenauxe-la-Grande \nPrévoir des vêtements ne craignant pas d’être mouillés\, adaptés à la météo\, et des bottes (obligatoire !) 
URL:https://villenauxelagrande.fr/evenement/animation-nature-enfants/
LOCATION:Dival\, Place Saint-Jacques\, Villenauxe-la-Grande\, 10370\, France
ATTACH;FMTTYPE=image/jpeg:https://villenauxelagrande.fr/wp-content/uploads/2024/04/434403351_815985703899511_2869005457746395870_n.jpg
END:VEVENT
BEGIN:VEVENT
DTSTART;TZID=Europe/Paris:20240427T150000
DTEND;TZID=Europe/Paris:20240427T150000
DTSTAMP:20260422T221919
CREATED:20240102T073841Z
LAST-MODIFIED:20240414T072047Z
UID:10972-1714230000-1714230000@villenauxelagrande.fr
SUMMARY:UN CHAPITRE DE L'HISTOIRE DE VILLENAUXE
DESCRIPTION:  \nComme tous les ans\, en amont de la fête de Dival\, l’association Archéonoxe représentée par Jean-Claude Terrillon\, propose à la bibliothèque une conférence diaporama sur un thème de l’histoire de Villenauxe-la-Grande. \n\nCette année\, notre historien local a choisi de nous parler de : La ville de Villenauxe\, ses routes et ses rues » en retraçant les origines de la ville et son évolution\, indissociable de l’évolution des chemins qui la desservent… \n\nUn thème qui va très certainement intéresser Villenauxiers et nouveaux arrivants ! \n\nUne exposition sur ce même sujet sera présentée à l’église de Dival\, les 4 et 5 mai. \n\nLe public pourra acquérir la brochure dédicacée à l’issue de cette conférence-diaporama. \n\nSamedi 27 avril à 15h.\nBibliothèque municipale\n35\, rue du Perrey \n\nPour l’organisation\, il est préférable de réserver au 03 25 21 31 65
URL:https://villenauxelagrande.fr/evenement/un-chapitre-de-lhistoire-de-villenauxe/
LOCATION:Bibliothèque Municipale Gustave Flaubert\, 35 rue du Perrey\, Villenauxe-la-Grande\, 10370
ATTACH;FMTTYPE=image/png:https://villenauxelagrande.fr/wp-content/uploads/2024/04/Slide-HIST-VILLENAUXE-24.png
END:VEVENT
END:VCALENDAR