BEGIN:VCALENDAR
VERSION:2.0
PRODID:-//Villenauxe-la-Grande - ECPv6.15.17.1//NONSGML v1.0//EN
CALSCALE:GREGORIAN
METHOD:PUBLISH
X-WR-CALNAME:Villenauxe-la-Grande
X-ORIGINAL-URL:https://villenauxelagrande.fr
X-WR-CALDESC:Évènements pour Villenauxe-la-Grande
REFRESH-INTERVAL;VALUE=DURATION:PT1H
X-Robots-Tag:noindex
X-PUBLISHED-TTL:PT1H
BEGIN:VTIMEZONE
TZID:Europe/Paris
BEGIN:DAYLIGHT
TZOFFSETFROM:+0100
TZOFFSETTO:+0200
TZNAME:CEST
DTSTART:20230326T010000
END:DAYLIGHT
BEGIN:STANDARD
TZOFFSETFROM:+0200
TZOFFSETTO:+0100
TZNAME:CET
DTSTART:20231029T010000
END:STANDARD
BEGIN:DAYLIGHT
TZOFFSETFROM:+0100
TZOFFSETTO:+0200
TZNAME:CEST
DTSTART:20240331T010000
END:DAYLIGHT
BEGIN:STANDARD
TZOFFSETFROM:+0200
TZOFFSETTO:+0100
TZNAME:CET
DTSTART:20241027T010000
END:STANDARD
BEGIN:DAYLIGHT
TZOFFSETFROM:+0100
TZOFFSETTO:+0200
TZNAME:CEST
DTSTART:20250330T010000
END:DAYLIGHT
BEGIN:STANDARD
TZOFFSETFROM:+0200
TZOFFSETTO:+0100
TZNAME:CET
DTSTART:20251026T010000
END:STANDARD
END:VTIMEZONE
BEGIN:VEVENT
DTSTART;VALUE=DATE:20240531
DTEND;VALUE=DATE:20240607
DTSTAMP:20260422T192313
CREATED:20240305T120427Z
LAST-MODIFIED:20240524T070128Z
UID:11127-1717113600-1717718399@villenauxelagrande.fr
SUMMARY:SEMAINE OLYMPIQUE
DESCRIPTION:Premier rendez-vous de cet été qui s’annonce sportif\, la Semaine Olympique et Paralympique de nos écoles se tiendra du vendredi 31 mai au jeudi 6 juin 2024. \nAu programme \nVendredi 31 mai\nCérémonie d’ouverture (Place Clemenceau\, à partir de 9h30)\n‍Athlétisme (classes de CE2\, CM1 et CM2) \nLundi 3 juin\n‍Athlétisme (classes de maternelle)\n‍Athlétisme (classes de CP\, CE1 et CE2) \nMardi 4 juin\nHandball (classes de CE2\, CM1 et CM2)\nHandball (classes de CP\, CE1 et CE2) \nMercredi 5 juin\nRencontre Olympiades entre l’ACM (centre de loisirs) et l’EHPAD Résidence de la Noxe \nJeudi 6 juin\n Cross des écoles (Stade du Perrey – 9h30)\nCérémonie de clôture (Place Clemenceau\, à partir de 13h30) \nℹ️ Seuls les cérémonies d’ouverture\, de clôture et le cross sont ouverts au public. \nEnsemble\, faisons de cette semaine un moment inoubliable pour nos jeunes athlètes ! \n 
URL:https://villenauxelagrande.fr/evenement/semaine-olympique/
ATTACH;FMTTYPE=image/png:https://villenauxelagrande.fr/wp-content/uploads/2024/03/Slide-SOP-24-2.png
END:VEVENT
BEGIN:VEVENT
DTSTART;TZID=Europe/Paris:20240601T143000
DTEND;TZID=Europe/Paris:20240601T143000
DTSTAMP:20260422T192313
CREATED:20240102T074219Z
LAST-MODIFIED:20240521T073217Z
UID:10976-1717252200-1717252200@villenauxelagrande.fr
SUMMARY:JOURNÉE DE L'AVC
DESCRIPTION:Samedi 1er juin la bibliothèque municipale accueille Didier Bannier. \nCette rencontre se déroulera à partir de 14h30 en partenariat avec Nathalie de la bibliothèque de Pont-sur-Seine. Venez faire la connaissance de cet auteur qui nous parlera de son vécu face à l’AVC\, un sujet sensible. Un grand moment de partage\, de lectures\, de témoignages… Une vraie leçon de vie ! Nous clôturerons cet événement par une séance de dédicaces de son ouvrage « Chambre 313 Un homme à terre » et partagerons le verre de l’amitié. \nVenez nombreux\, Didier sera sensible à votre présence.
URL:https://villenauxelagrande.fr/evenement/journee-de-lavc/
LOCATION:Bibliothèque Municipale Gustave Flaubert\, 35 rue du Perrey\, Villenauxe-la-Grande\, 10370
ATTACH;FMTTYPE=image/jpeg:https://villenauxelagrande.fr/wp-content/uploads/2024/01/avc.jpg
END:VEVENT
BEGIN:VEVENT
DTSTART;VALUE=DATE:20240608
DTEND;VALUE=DATE:20240609
DTSTAMP:20260422T192313
CREATED:20240102T074300Z
LAST-MODIFIED:20240603T083359Z
UID:10978-1717804800-1717891199@villenauxelagrande.fr
SUMMARY:LECTURES ET JEUX A LA BILIOTHEQUE
DESCRIPTION:Les enfants\, mettez de côté vos écrans et venez à la bibliothèque faire des jeux de société\, des puzzles\, des colliers de perles\, etc. \nActivités gratuites \nPrésence des parents conseillée pour les tout petits à partir de 4 ans. \nSur réservation au 03 25 21 31 65
URL:https://villenauxelagrande.fr/evenement/lectures-et-jeux-a-la-biliotheque/
LOCATION:Bibliothèque Municipale Gustave Flaubert\, 35 rue du Perrey\, Villenauxe-la-Grande\, 10370
ATTACH;FMTTYPE=image/jpeg:https://villenauxelagrande.fr/wp-content/uploads/2024/01/97818247f3fab7e2e48b1563f0e42b13.jpg
END:VEVENT
BEGIN:VEVENT
DTSTART;TZID=Europe/Paris:20240611T140000
DTEND;TZID=Europe/Paris:20240611T170000
DTSTAMP:20260422T192313
CREATED:20240504T065014Z
LAST-MODIFIED:20240519T143841Z
UID:11289-1718114400-1718125200@villenauxelagrande.fr
SUMMARY:FORUM DE L'EMPLOI
DESCRIPTION: Retour du forum « L’emploi à votre porte » Mardi 11 juin de 14h à 17h Villenauxe organise son forum pour l’emploi à la salle des fêtes. Découvrez les opportunités professionnelles d’entreprises près de chez vous : intérim\, formation\, intégration\, lien social\, service\, création et reprise d’entreprise… Ce forum est ouvert à tout public en recherche d’emploi et sans limite d’âge.
URL:https://villenauxelagrande.fr/evenement/forum-de-lemploi-2/
LOCATION:Salle des fêtes\, 3 rue des abattoirs\, Villenauxe-la-Grande\, 10370
ATTACH;FMTTYPE=image/jpeg:https://villenauxelagrande.fr/wp-content/uploads/2024/05/forum-de-lemploi.jpg
END:VEVENT
BEGIN:VEVENT
DTSTART;VALUE=DATE:20240614
DTEND;VALUE=DATE:20240615
DTSTAMP:20260422T192313
CREATED:20240102T074400Z
LAST-MODIFIED:20240102T074400Z
UID:10980-1718323200-1718409599@villenauxelagrande.fr
SUMMARY:SOIRÉE PYJAMA
DESCRIPTION:“Je ne touche pas aux écrans !”.
URL:https://villenauxelagrande.fr/evenement/soiree-pyjama/
END:VEVENT
BEGIN:VEVENT
DTSTART;TZID=Europe/Paris:20240615T100000
DTEND;TZID=Europe/Paris:20240615T100000
DTSTAMP:20260422T192313
CREATED:20240102T074523Z
LAST-MODIFIED:20240610T131012Z
UID:10982-1718445600-1718445600@villenauxelagrande.fr
SUMMARY:FÊTE DES PÈRES A LA BIBLIOTHÈQUE
DESCRIPTION:Samedi 15 juin à 10h\, les papas seront mis à l’honneur à l’occasion de l’heure du conte. Au programme\, des lectures\, des poèmes\, des créations pour un papa qu’on aime et qu’on aimera toujours ! \nSur réservation au 03 25 21 31 65
URL:https://villenauxelagrande.fr/evenement/fete-des-peres-a-la-bibliotheque/
LOCATION:Bibliothèque Municipale Gustave Flaubert\, 35 rue du Perrey\, Villenauxe-la-Grande\, 10370
ATTACH;FMTTYPE=image/jpeg:https://villenauxelagrande.fr/wp-content/uploads/2024/01/Screenshot_2024-06-10-15-03-15-132_panopoche.panopoche-edit.jpg
END:VEVENT
BEGIN:VEVENT
DTSTART;TZID=Europe/Paris:20240616T070000
DTEND;TZID=Europe/Paris:20240616T183000
DTSTAMP:20260422T192313
CREATED:20240227T121355Z
LAST-MODIFIED:20240421T085300Z
UID:11052-1718521200-1718562600@villenauxelagrande.fr
SUMMARY:BROCANTE
DESCRIPTION:
URL:https://villenauxelagrande.fr/evenement/brocante-3/
LOCATION:Stade du Perrey\, 65 rue du Perrey\, Villenauxe-la-Grande\, 10370\, France
ATTACH;FMTTYPE=image/png:https://villenauxelagrande.fr/wp-content/uploads/2024/02/Affiche-Brocante-A4-1.png
END:VEVENT
BEGIN:VEVENT
DTSTART;VALUE=DATE:20240618
DTEND;VALUE=DATE:20240619
DTSTAMP:20260422T192313
CREATED:20240403T114945Z
LAST-MODIFIED:20240403T114945Z
UID:11183-1718668800-1718755199@villenauxelagrande.fr
SUMMARY:VOYAGE DU CCAS
DESCRIPTION:Le 18 juin\, le CCAS vous propose de découvrir Noyers-sur-Serein\, un village à feuilleter comme un livre d’Histoire. \nAvec ses ruelles pavées\, bordées de maisons à colombages sur arcades\, on se croirait dans un décor de film historique à ciel ouvert ou tout semble être resté en place depuis toujours : placettes\, églises\, remparts\, chapiteaux sculptées\, rives paisibles du Serein. \nLe déjeuner aura lieu à Avallon\, située au cœur de la Bourgogne\, aux portes du Morvan\, perchée sur son éperon granitique et ceinte de remparts\, elle domine la magnifique vallée du Cousin\, entourée de ses mythiques jardins terrasses cultivés depuis le Xe siècle. \nPour la balade digestive ce sera au doux rythme d’antan! \nÀ bord du « Petit train de l’Yonne »\, vous voyagerez sur l’ancien tracé du «Tacot»\, chemin de fer départemental\, qui fonctionna de 1880 à 1951 de Migennes à l’Isle sur Serein\, traversant les bourgs réputés de Chablis et Noyers. \n⚠️ Places limitées\, vous avez jusqu’au 15 mai pour vous inscrire au voyage organisé par le CCAS.
URL:https://villenauxelagrande.fr/evenement/voyage-du-ccas/
ATTACH;FMTTYPE=image/jpeg:https://villenauxelagrande.fr/wp-content/uploads/2024/04/ec6fb09f9fffb837addcdb0d094a36e3_voyage-du-.jpg
END:VEVENT
BEGIN:VEVENT
DTSTART;VALUE=DATE:20240619
DTEND;VALUE=DATE:20240620
DTSTAMP:20260422T192313
CREATED:20240305T120505Z
LAST-MODIFIED:20240610T110206Z
UID:11129-1718755200-1718841599@villenauxelagrande.fr
SUMMARY:JOURNÉE OLYMPIQUE
DESCRIPTION:🌟🎉 Journée Olympique 2024 🎉🌟 \nMercredi 19 juin\, nous célébrons la Journée Olympique\, une occasion spéciale pour inspirer nos jeunes à découvrir les valeurs du sport\, l’esprit d’équipe et la persévérance. 🏅🌍 \n\n📌 SALLE PRIEUR-VIGNOT\n10h-11h30 : Badminton 🏸\n17h-18h : FooBaSkill ⚽🏀 (De 9 à 14 ans)\n\n\n📌 COMPLEXE SPORTIF LES PRÉS DU CHÂTEAU\n13h30-14h30 : Football ⚽\n14h30-15h30 : Tennis de table 🏓\n15h30-16h30 : Tennis 🎾\n\nPrévoir des chaussures propres et une bouteille d’eau. \n 
URL:https://villenauxelagrande.fr/evenement/journee-olympique-2/
ATTACH;FMTTYPE=image/png:https://villenauxelagrande.fr/wp-content/uploads/2024/06/Journée-olympique-2024-copie.png
END:VEVENT
BEGIN:VEVENT
DTSTART;TZID=Europe/Paris:20240622T143000
DTEND;TZID=Europe/Paris:20240622T143000
DTSTAMP:20260422T192313
CREATED:20240620T132653Z
LAST-MODIFIED:20240620T132653Z
UID:11441-1719066600-1719066600@villenauxelagrande.fr
SUMMARY:RENCONTRE AVEC MICHEL BERNARD
DESCRIPTION:Célébrons l’impressionnisme\n– – – – – – – \n\nÀ l’occasion du 150ème anniversaire de la première exposition impressionniste (1874-2024)\, la bibliothèque reçoit Monsieur Michel Bernard. Ce haut fonctionnaire se consacre aujourd’hui à l’écriture\, il est l’auteur de « Deux remords de Claude Monet »\, livre qu’il présentera au public. Dans cet ouvrage\, quel bonheur de pouvoir si intimement rencontrer Claude Monet\, à travers ce\, et ceux\, qu’il a le plus aimés. Il nous conte\, en restant au plus près des faits historiques\, une histoire d’amour et de mort\, qui exprime avec délicatesse et mieux que tout grand discours ce que fut l’aventure impressionniste. \nGratuit \nRenseignements au 03 25 21 31 65
URL:https://villenauxelagrande.fr/evenement/rencontre-avec-michel-bernard/
LOCATION:Bibliothèque Municipale Gustave Flaubert\, 35 rue du Perrey\, Villenauxe-la-Grande\, 10370
ATTACH;FMTTYPE=image/jpeg:https://villenauxelagrande.fr/wp-content/uploads/2024/06/07761c3659dafb5ac66551c3b6daea04.jpg
END:VEVENT
END:VCALENDAR