BEGIN:VCALENDAR
VERSION:2.0
PRODID:-//Villenauxe-la-Grande - ECPv6.15.17.1//NONSGML v1.0//EN
CALSCALE:GREGORIAN
METHOD:PUBLISH
X-WR-CALNAME:Villenauxe-la-Grande
X-ORIGINAL-URL:https://villenauxelagrande.fr
X-WR-CALDESC:Évènements pour Villenauxe-la-Grande
REFRESH-INTERVAL;VALUE=DURATION:PT1H
X-Robots-Tag:noindex
X-PUBLISHED-TTL:PT1H
BEGIN:VTIMEZONE
TZID:Europe/Paris
BEGIN:DAYLIGHT
TZOFFSETFROM:+0100
TZOFFSETTO:+0200
TZNAME:CEST
DTSTART:20240331T010000
END:DAYLIGHT
BEGIN:STANDARD
TZOFFSETFROM:+0200
TZOFFSETTO:+0100
TZNAME:CET
DTSTART:20241027T010000
END:STANDARD
BEGIN:DAYLIGHT
TZOFFSETFROM:+0100
TZOFFSETTO:+0200
TZNAME:CEST
DTSTART:20250330T010000
END:DAYLIGHT
BEGIN:STANDARD
TZOFFSETFROM:+0200
TZOFFSETTO:+0100
TZNAME:CET
DTSTART:20251026T010000
END:STANDARD
BEGIN:DAYLIGHT
TZOFFSETFROM:+0100
TZOFFSETTO:+0200
TZNAME:CEST
DTSTART:20260329T010000
END:DAYLIGHT
BEGIN:STANDARD
TZOFFSETFROM:+0200
TZOFFSETTO:+0100
TZNAME:CET
DTSTART:20261025T010000
END:STANDARD
END:VTIMEZONE
BEGIN:VEVENT
DTSTART;VALUE=DATE:20251206
DTEND;VALUE=DATE:20251208
DTSTAMP:20260421T172651
CREATED:20251008T180431Z
LAST-MODIFIED:20251104T084531Z
UID:17059-1764979200-1765151999@villenauxelagrande.fr
SUMMARY:SALON DU TERROIR ET DE L'ARTISANAT
DESCRIPTION:Le samedi 6 et dimanche 7 décembre 2025\, venez découvrir le Salon du Terroir et de l’Artisanat à la Salle des Fêtes de Villenauxe-la-Grande. Cet événement vous invite à une immersion festive et authentique\, avec une large sélection d’exposants proposant des cadeaux\, bijoux\, décoration\, vins et champagnes\, ainsi que des produits artisanaux et du terroir. Il y en aura pour tous les goûts et pour toutes les envies ! \nDe nombreuses animations seront également proposées tout au long du week-end. Retrouvez la vente d’enveloppes au profit du Téléthon\, soutenue par le Conseil Municipal Jeunes\, et profitez d’un moment convivial avec une buvette et restauration sur place. Les enfants pourront aussi rencontrer le Père Noël et participer à un atelier créatif spécialement conçu pour eux. \nLes horaires d’ouverture sont de 10h à 19h30 le samedi et de 10h à 18h00 le dimanche. \nVenez nombreux pour soutenir les artisans locaux\, découvrir des produits de qualité et passer un moment agréable en famille ou entre amis. \nInformations pratiques : \n\nSalle des Fêtes\, Villenauxe-la-Grande\nRenseignements : Mairie de Villenauxe-la-Grande\, Place Clemenceau – 03 25 21 32 22\nEmail : services-techniques@villenauxelagrande.fr
URL:https://villenauxelagrande.fr/evenement/salon-du-terroir-et-de-lartisanat-4/
LOCATION:Salle des fêtes\, 3 rue des abattoirs\, Villenauxe-la-Grande\, 10370
ATTACH;FMTTYPE=image/jpeg:https://villenauxelagrande.fr/wp-content/uploads/2025/10/B9732849025Z.1_20221203170659_000GH2LPT4CE.1-0.jpg
END:VEVENT
BEGIN:VEVENT
DTSTART;TZID=Europe/Paris:20251206T153000
DTEND;TZID=Europe/Paris:20251206T153000
DTSTAMP:20260421T172651
CREATED:20251104T074041Z
LAST-MODIFIED:20251104T081536Z
UID:17716-1765035000-1765035000@villenauxelagrande.fr
SUMMARY:RANDONNÉE DU TÉLÉTHON
DESCRIPTION:Avec les pompiers de Villenauxe\, venez participer à la randonnée du Téléthon le samedi 6 décembre. \nDépart et arrivée place Clemenceau\, inscription sur place à partir de 15h. \nDépart à 15h30. \nParticipation de 5€ intégralement reversés au Téléthon.
URL:https://villenauxelagrande.fr/evenement/randonnee-du-telethon/
LOCATION:Place Georges Clemenceau\, Villenauxe-la-Grande\, 10370
ATTACH;FMTTYPE=image/jpeg:https://villenauxelagrande.fr/wp-content/uploads/2025/11/telethon-pompier-SLIDE.jpg
END:VEVENT
BEGIN:VEVENT
DTSTART;VALUE=DATE:20251207
DTEND;VALUE=DATE:20251208
DTSTAMP:20260421T172652
CREATED:20251104T082747Z
LAST-MODIFIED:20251104T084728Z
UID:17722-1765065600-1765151999@villenauxelagrande.fr
SUMMARY:SALON DU TERROIR ET DE L'ARTISANAT
DESCRIPTION:Le samedi 6 et dimanche 7 décembre 2025\, venez découvrir le Salon du Terroir et de l’Artisanat à la Salle des Fêtes de Villenauxe-la-Grande. Cet événement vous invite à une immersion festive et authentique\, avec une large sélection d’exposants proposant des cadeaux\, bijoux\, décoration\, vins et champagnes\, ainsi que des produits artisanaux et du terroir. Il y en aura pour tous les goûts et pour toutes les envies ! \nDe nombreuses animations seront également proposées tout au long du week-end. Retrouvez la vente d’enveloppes au profit du Téléthon\, soutenue par le Conseil Municipal Jeunes\, et profitez d’un moment convivial avec une buvette et restauration sur place. Les enfants pourront aussi rencontrer le Père Noël et participer à un atelier créatif spécialement conçu pour eux. \nLes horaires d’ouverture sont de 10h à 19h30 le samedi et de 10h à 18h00 le dimanche. \nVenez nombreux pour soutenir les artisans locaux\, découvrir des produits de qualité et passer un moment agréable en famille ou entre amis. \nInformations pratiques : \n\nSalle des Fêtes\, Villenauxe-la-Grande\nRenseignements : Mairie de Villenauxe-la-Grande\, Place Clemenceau – 03 25 21 32 22\nEmail : services-techniques@villenauxelagrande.fr
URL:https://villenauxelagrande.fr/evenement/salon-du-terroir-et-de-lartisanat-5/
LOCATION:Salle des fêtes\, 3 rue des abattoirs\, Villenauxe-la-Grande\, 10370
ATTACH;FMTTYPE=image/jpeg:https://villenauxelagrande.fr/wp-content/uploads/2025/10/B9732849025Z.1_20221203170659_000GH2LPT4CE.1-0.jpg
END:VEVENT
BEGIN:VEVENT
DTSTART;TZID=Europe/Paris:20251212T200000
DTEND;TZID=Europe/Paris:20251212T200000
DTSTAMP:20260421T172652
CREATED:20251209T060503Z
LAST-MODIFIED:20251209T060630Z
UID:18095-1765569600-1765569600@villenauxelagrande.fr
SUMMARY:DICTÉE DE NOËL
DESCRIPTION:✍️ La Dictée de Noël arrive ! ✍️ \nLa Bibliothèque de Villenauxe-la-Grande vous invite à partager un moment convivial et ludique autour de sa Dictée de Noël\, ouverte à tous ! \nVendredi 12 décembreÀ 20h00Salle Germaine Bernot \nQue vous soyez amoureux des mots\, amateurs de défis ou simplement curieux\, venez tester votre orthographe dans la bonne humeur et l’esprit des fêtes. ✨ \nRenseignements : 03 25 21 31 65Événement gratuit \nOn vous attend nombreux !
URL:https://villenauxelagrande.fr/evenement/dictee-de-noel-3/
LOCATION:Salle socioculturelle Germaine Bernot\, Rue des Ouches
ATTACH;FMTTYPE=image/jpeg:https://villenauxelagrande.fr/wp-content/uploads/2025/12/37070015.jpeg
END:VEVENT
BEGIN:VEVENT
DTSTART;TZID=Europe/Paris:20251214T100000
DTEND;TZID=Europe/Paris:20251214T180000
DTSTAMP:20260421T172652
CREATED:20251119T084658Z
LAST-MODIFIED:20251208T165728Z
UID:17884-1765706400-1765735200@villenauxelagrande.fr
SUMMARY:MARCHÉ DE NOËL
DESCRIPTION:Dimanche 14 décembre\, la magie de Noël s’installe à Villenauxe la Grande ✨ \nL’association La Main à La Pat’ : Protection Animale vous donne rendez-vous pour son premier marché de Noël \nAvec la participation de nombreux commerçants\, artisans et associations locales pour un programme 5 étoiles \n~ Corrida de Noël (5Km départ à 11h) \n~ Élection du plus beau duo maître/chien lors d’un défilé \n~ Élection de la plus belle vitrine de Noël \n~ Tombola\, ateliers ludiques et d’autres surprises … \nEt évidemment… le chalet du père Noël \nVenez flâner\, déguster\, découvrir et partager un moment convivial en famille ou entre amis. \nDe quoi plonger pleinement dans l’ambiance chaleureuse des fêtes de fin d’année
URL:https://villenauxelagrande.fr/evenement/marche-de-noel-3/
LOCATION:Place Georges Clemenceau\, Villenauxe-la-Grande\, 10370
ATTACH;FMTTYPE=image/jpeg:https://villenauxelagrande.fr/wp-content/uploads/2025/11/istock_1188713936_4e15dc82-f8dc-4ceb-bdf1-e417e3a1b837.jpg
END:VEVENT
BEGIN:VEVENT
DTSTART;TZID=Europe/Paris:20251214T110000
DTEND;TZID=Europe/Paris:20251214T110000
DTSTAMP:20260421T172652
CREATED:20251119T083249Z
LAST-MODIFIED:20251119T091403Z
UID:17881-1765710000-1765710000@villenauxelagrande.fr
SUMMARY:CORRIDA DE NOËL
DESCRIPTION:Corrida de Noël – 1ère édition \nDimanche 14 décembre 2025\n5 km de pur bonheur \nVenez célébrer Noël de manière sportive avec la première édition de la Corrida de Noël ! Un événement festif alliant course à pied et ambiance de fin d’année\, pour petits et grands. \nInscription sur place : à partir de 10H‍Départ de la course : à 11HLieu : Villenauxe-la-Grande\, Place de l’ÉgliseFrais d’inscription : 6€ \nOrganisée par Alliance Villenauxe Running et l’association La Main à la Pat\, cette course est une occasion unique de se retrouver entre amis ou en famille\, tout en profitant de l’esprit de Noël. \nVenez courir avec votre plus belle tenue de Noël et participez à une journée inoubliable ! \nInfos et contact : alliancevillenauxerunning@gmail.com
URL:https://villenauxelagrande.fr/evenement/corrida-de-noel/
LOCATION:Place Georges Clemenceau\, Villenauxe-la-Grande\, 10370
ATTACH;FMTTYPE=image/jpeg:https://villenauxelagrande.fr/wp-content/uploads/2025/11/corrida-de-Noel.jpg
END:VEVENT
BEGIN:VEVENT
DTSTART;TZID=Europe/Paris:20251220T150000
DTEND;TZID=Europe/Paris:20251220T150000
DTSTAMP:20260421T172652
CREATED:20251127T121937Z
LAST-MODIFIED:20251218T083605Z
UID:17977-1766242800-1766242800@villenauxelagrande.fr
SUMMARY:SPECTACLE DE NOËL
DESCRIPTION:Noël approche à Villenauxe. ☃️ \nRendez vous samedi 20 décembre à 15h à la salle des fêtes pour un spectacle clownesque avec la troupe des « Pont à rien » \nSans oublier la présence du Père Noël et la traditionnelle distribution de chocolats par le Comité des fêtes de Villenauxe-la-Grande. \nPetits et grands sont attendus en nombre. \nGratuit et ouvert à tous.
URL:https://villenauxelagrande.fr/evenement/spectacle-de-noel-4/
LOCATION:Salle des fêtes\, 3 rue des abattoirs\, Villenauxe-la-Grande\, 10370
ATTACH;FMTTYPE=image/jpeg:https://villenauxelagrande.fr/wp-content/uploads/2025/11/Clowns-25-Villenauxe_SLIDE.jpg
END:VEVENT
BEGIN:VEVENT
DTSTART;TZID=Europe/Paris:20251220T150000
DTEND;TZID=Europe/Paris:20251220T150000
DTSTAMP:20260421T172652
CREATED:20251211T075335Z
LAST-MODIFIED:20251211T142634Z
UID:18126-1766242800-1766242800@villenauxelagrande.fr
SUMMARY:LES CARTES POSTALES S’ANIMENT ET DEVIENNENT FILM
DESCRIPTION:Venez découvrir l’histoire de notre village d’une manière originale !Quand ? Samedi 20 décembre 2025 à 15h00Où ? Bibliothèque Municipale de Villenauxe-la-Grande \nAu programme :\n️ Projection de cartes postales animées – revivez le passé de notre commune à travers des images historiques qui prennent vie !❓ Jeu quiz « Connaissez-vous bien Villenauxe ? » – Testez vos connaissances et apprenez des anecdotes surprenantes sur notre village. \nCet événement est organisé par Stéphane Méry et l’association Archéonoxe. \nRéservation conseillée – Places limitées !Contact : 03 25 21 31 65Email : Bibliot.villenauxe@wanadoo.fr \nNe manquez pas cette occasion de plonger dans l’histoire locale de façon interactive !
URL:https://villenauxelagrande.fr/evenement/les-cartes-postales-saniment-et-deviennent-film/
LOCATION:Bibliothèque Municipale Gustave Flaubert\, 35 rue du Perrey\, Villenauxe-la-Grande\, 10370
ATTACH;FMTTYPE=image/jpeg:https://villenauxelagrande.fr/wp-content/uploads/2025/12/capture-carte-postale-68b6fd89e0bcd820140901.jpg
END:VEVENT
END:VCALENDAR