BEGIN:VCALENDAR
VERSION:2.0
PRODID:-//Villenauxe-la-Grande - ECPv6.15.17.1//NONSGML v1.0//EN
CALSCALE:GREGORIAN
METHOD:PUBLISH
X-ORIGINAL-URL:https://villenauxelagrande.fr
X-WR-CALDESC:Évènements pour Villenauxe-la-Grande
REFRESH-INTERVAL;VALUE=DURATION:PT1H
X-Robots-Tag:noindex
X-PUBLISHED-TTL:PT1H
BEGIN:VTIMEZONE
TZID:Europe/Paris
BEGIN:DAYLIGHT
TZOFFSETFROM:+0100
TZOFFSETTO:+0200
TZNAME:CEST
DTSTART:20250330T010000
END:DAYLIGHT
BEGIN:STANDARD
TZOFFSETFROM:+0200
TZOFFSETTO:+0100
TZNAME:CET
DTSTART:20251026T010000
END:STANDARD
BEGIN:DAYLIGHT
TZOFFSETFROM:+0100
TZOFFSETTO:+0200
TZNAME:CEST
DTSTART:20260329T010000
END:DAYLIGHT
BEGIN:STANDARD
TZOFFSETFROM:+0200
TZOFFSETTO:+0100
TZNAME:CET
DTSTART:20261025T010000
END:STANDARD
BEGIN:DAYLIGHT
TZOFFSETFROM:+0100
TZOFFSETTO:+0200
TZNAME:CEST
DTSTART:20270328T010000
END:DAYLIGHT
BEGIN:STANDARD
TZOFFSETFROM:+0200
TZOFFSETTO:+0100
TZNAME:CET
DTSTART:20271031T010000
END:STANDARD
END:VTIMEZONE
BEGIN:VEVENT
DTSTART;TZID=Europe/Paris:20260124T200000
DTEND;TZID=Europe/Paris:20260124T200000
DTSTAMP:20260421T155816
CREATED:20260114T171919Z
LAST-MODIFIED:20260114T172212Z
UID:18386-1769284800-1769284800@villenauxelagrande.fr
SUMMARY:LA NUIT DE LA LECTURE
DESCRIPTION:Un rendez-vous incontournable tous les ans au mois de janvier : La nuit de la lecture .\nCette année\, la bibliothèque a choisi de rendre hommage à George Sand à l’occasion du 150ème anniversaire de sa mort !\nEt plus précisément de ses amours avec Chopin ! \n\nC’est le Théâtre de Bohème\, association nogentaise qui va nous faire voyager dans l’univers de George Sand et Frédéric Chopin. \n\nUn beau programme en perspective avec Carina (lecture) et Carina (piano). \n\nSoirée Piano-lecture George Sand – Chopin \n\nSamedi 24 janvier à 20h\nGratuit \n\nRenseignements au 03 25 21 31 65\n35\, rue du Perrey\n10370 Villenauxe-la-Grande
URL:https://villenauxelagrande.fr/evenement/la-nuit-de-la-lecture-2/
LOCATION:Bibliothèque Municipale Gustave Flaubert\, 35 rue du Perrey\, Villenauxe-la-Grande\, 10370
ATTACH;FMTTYPE=image/png:https://villenauxelagrande.fr/wp-content/uploads/2026/01/NUIT-DE-LA-LECTURE-2026-SLIDE.png
END:VEVENT
BEGIN:VEVENT
DTSTART;TZID=Europe/Paris:20260131T203000
DTEND;TZID=Europe/Paris:20260131T203000
DTSTAMP:20260421T155816
CREATED:20260114T182913Z
LAST-MODIFIED:20260114T182943Z
UID:18415-1769891400-1769891400@villenauxelagrande.fr
SUMMARY:CONCERT D'HIVER
DESCRIPTION:Concert d’Hiver de l’Harmonie\n\n\n\n\n\nLa Fraternelle a le plaisir de vous inviter à leur concert d’hiver le samedi 31 janvier à 20h30\, à la salle des fêtes de Villenauxe-la-Grande. \n\n\n\n\nEn invité d’honneur : l’harmonie de Maizière-la-Grande-Paroisse – “La Renaissance”. \n  \n\n\n\n\nUne belle soirée musicale à partager ensemble… on vous attend nombreux !
URL:https://villenauxelagrande.fr/evenement/concert-dhiver/
LOCATION:Salle des fêtes\, 3 rue des abattoirs\, Villenauxe-la-Grande\, 10370
ATTACH;FMTTYPE=image/jpeg:https://villenauxelagrande.fr/wp-content/uploads/2026/01/32736441.jpeg
END:VEVENT
END:VCALENDAR