BEGIN:VCALENDAR
VERSION:2.0
PRODID:-//Villenauxe-la-Grande - ECPv6.15.17.1//NONSGML v1.0//EN
CALSCALE:GREGORIAN
METHOD:PUBLISH
X-WR-CALNAME:Villenauxe-la-Grande
X-ORIGINAL-URL:https://villenauxelagrande.fr
X-WR-CALDESC:Évènements pour Villenauxe-la-Grande
REFRESH-INTERVAL;VALUE=DURATION:PT1H
X-Robots-Tag:noindex
X-PUBLISHED-TTL:PT1H
BEGIN:VTIMEZONE
TZID:Europe/Paris
BEGIN:DAYLIGHT
TZOFFSETFROM:+0100
TZOFFSETTO:+0200
TZNAME:CEST
DTSTART:20250330T010000
END:DAYLIGHT
BEGIN:STANDARD
TZOFFSETFROM:+0200
TZOFFSETTO:+0100
TZNAME:CET
DTSTART:20251026T010000
END:STANDARD
BEGIN:DAYLIGHT
TZOFFSETFROM:+0100
TZOFFSETTO:+0200
TZNAME:CEST
DTSTART:20260329T010000
END:DAYLIGHT
BEGIN:STANDARD
TZOFFSETFROM:+0200
TZOFFSETTO:+0100
TZNAME:CET
DTSTART:20261025T010000
END:STANDARD
BEGIN:DAYLIGHT
TZOFFSETFROM:+0100
TZOFFSETTO:+0200
TZNAME:CEST
DTSTART:20270328T010000
END:DAYLIGHT
BEGIN:STANDARD
TZOFFSETFROM:+0200
TZOFFSETTO:+0100
TZNAME:CET
DTSTART:20271031T010000
END:STANDARD
END:VTIMEZONE
BEGIN:VEVENT
DTSTART;TZID=Europe/Paris:20260214T100000
DTEND;TZID=Europe/Paris:20260214T170000
DTSTAMP:20260421T141919
CREATED:20260210T133842Z
LAST-MODIFIED:20260210T141419Z
UID:18725-1771063200-1771088400@villenauxelagrande.fr
SUMMARY:EXPOSITION ARTISTIQUE DES RÉSIDENTS DE LA NOXE
DESCRIPTION:Les résidents de La Noxe ont le plaisir de vous inviter à leur exposition artistique collective  \n Samedi 14 février 2026\n De 10h à 17h – Entrée libre\n Salle des fêtes de Villenauxe-la-Grande \n\n\n\n Plus de 80 tableaux vous attendent : dessins\, peintures\, couleurs et émotions\, réalisés avec passion par les résidents \n\n\n\nVenez nombreux admirer leurs œuvres et partager un beau moment culturel et convivial ! \n\n\n\n Renseignements : 03 25 21 33 75\n delphine.tillier@ehpadvilllenauxe.com
URL:https://villenauxelagrande.fr/evenement/exposition-artistique-des-residents-de-la-noxe/
LOCATION:Bibliothèque Municipale Gustave Flaubert\, 35 rue du Perrey\, Villenauxe-la-Grande\, 10370
ATTACH;FMTTYPE=image/png:https://villenauxelagrande.fr/wp-content/uploads/2026/02/7d5fe30f-1-VIGN.png
END:VEVENT
BEGIN:VEVENT
DTSTART;TZID=Europe/Paris:20260221T150000
DTEND;TZID=Europe/Paris:20260221T150000
DTSTAMP:20260421T141919
CREATED:20260206T101250Z
LAST-MODIFIED:20260206T101902Z
UID:18593-1771686000-1771686000@villenauxelagrande.fr
SUMMARY:LES CARTES POSTALES S’ANIMENT ET DEVIENNENT FILM
DESCRIPTION:Venez découvrir l’histoire de notre village d’une manière originale !Quand ? Samedi 21 février 2026 à 15h00Où ? Bibliothèque Municipale de Villenauxe-la-Grande \nAu programme :\n️ Projection de cartes postales animées – revivez le passé de notre commune à travers des images historiques qui prennent vie !❓ Jeu quiz « Connaissez-vous bien Villenauxe ? » – Testez vos connaissances et apprenez des anecdotes surprenantes sur notre village. \nCet événement est organisé par Stéphane Méry et l’association Archéonoxe. \nRéservation conseillée – Places limitées !Contact : 03 25 21 31 65Email : Bibliot.villenauxe@wanadoo.fr \nNe manquez pas cette occasion de plonger dans l’histoire locale de façon interactive !
URL:https://villenauxelagrande.fr/evenement/les-cartes-postales-saniment-et-deviennent-film-2/
LOCATION:Bibliothèque Municipale Gustave Flaubert\, 35 rue du Perrey\, Villenauxe-la-Grande\, 10370
ATTACH;FMTTYPE=image/jpeg:https://villenauxelagrande.fr/wp-content/uploads/2025/12/capture-carte-postale-68b6fd89e0bcd820140901.jpg
END:VEVENT
END:VCALENDAR